



BEGIN:VCALENDAR
VERSION:2.0
PRODID:-//Ayuntamiento de Arganda - ECPv6.3.4//NONSGML v1.0//EN
CALSCALE:GREGORIAN
METHOD:PUBLISH
X-ORIGINAL-URL:https://www.argandadelrey.es
X-WR-CALDESC:Eventos para Ayuntamiento de Arganda
REFRESH-INTERVAL;VALUE=DURATION:PT1H
X-Robots-Tag:noindex
X-PUBLISHED-TTL:PT1H
BEGIN:VTIMEZONE
TZID:Europe/Madrid
BEGIN:DAYLIGHT
TZOFFSETFROM:+0100
TZOFFSETTO:+0200
TZNAME:CEST
DTSTART:20240331T010000
END:DAYLIGHT
BEGIN:STANDARD
TZOFFSETFROM:+0200
TZOFFSETTO:+0100
TZNAME:CET
DTSTART:20241027T010000
END:STANDARD
BEGIN:DAYLIGHT
TZOFFSETFROM:+0100
TZOFFSETTO:+0200
TZNAME:CEST
DTSTART:20250330T010000
END:DAYLIGHT
BEGIN:STANDARD
TZOFFSETFROM:+0200
TZOFFSETTO:+0100
TZNAME:CET
DTSTART:20251026T010000
END:STANDARD
BEGIN:DAYLIGHT
TZOFFSETFROM:+0100
TZOFFSETTO:+0200
TZNAME:CEST
DTSTART:20260329T010000
END:DAYLIGHT
BEGIN:STANDARD
TZOFFSETFROM:+0200
TZOFFSETTO:+0100
TZNAME:CET
DTSTART:20261025T010000
END:STANDARD
END:VTIMEZONE
BEGIN:VEVENT
DTSTART;TZID=Europe/Madrid:20260312T110000
DTEND;TZID=Europe/Madrid:20260312T120000
DTSTAMP:20260426T021054
CREATED:20260311T103903Z
LAST-MODIFIED:20260311T103937Z
UID:10001157-1773313200-1773316800@www.argandadelrey.es
SUMMARY:INAUGURACIÓN DE LA EXPOSICIÓN DEL CANAL DE ISABEL II
DESCRIPTION:
URL:https://www.argandadelrey.es/evento/inauguracion-de-la-exposicion-del-canal-de-isabel-ii/
LOCATION:Parque de los Patos\, Carretera de Loeches\, Arganda del Rey\, Madrid\, 28500\, España
ATTACH;FMTTYPE=image/jpeg:https://www.argandadelrey.es/wp-content/uploads/2025/10/Parque-Gonzalez-Bueno-scaled.jpg
END:VEVENT
BEGIN:VEVENT
DTSTART;TZID=Europe/Madrid:20251228T120000
DTEND;TZID=Europe/Madrid:20251228T130000
DTSTAMP:20260426T021054
CREATED:20251219T082157Z
LAST-MODIFIED:20251219T082228Z
UID:10001039-1766923200-1766926800@www.argandadelrey.es
SUMMARY:NAVIFEST: CAPERUCITA ROJA
DESCRIPTION:
URL:https://www.argandadelrey.es/evento/navifest-caperucita-roja/
LOCATION:Parque de los Patos\, Carretera de Loeches\, Arganda del Rey\, Madrid\, 28500\, España
ATTACH;FMTTYPE=image/jpeg:https://www.argandadelrey.es/wp-content/uploads/2025/12/Caperuylobodemerienda-scaled.jpg
END:VEVENT
BEGIN:VEVENT
DTSTART;TZID=Europe/Madrid:20251220T180000
DTEND;TZID=Europe/Madrid:20251220T190000
DTSTAMP:20260426T021054
CREATED:20251204T084209Z
LAST-MODIFIED:20251204T084209Z
UID:10001019-1766253600-1766257200@www.argandadelrey.es
SUMMARY:NAVIFEST: VARIETÉ NAVIDAD
DESCRIPTION:
URL:https://www.argandadelrey.es/evento/navifest-variete-navidad/
LOCATION:Parque de los Patos\, Carretera de Loeches\, Arganda del Rey\, Madrid\, 28500\, España
ATTACH;FMTTYPE=image/jpeg:https://www.argandadelrey.es/wp-content/uploads/2025/12/02-Rolling-copia.jpg
END:VEVENT
BEGIN:VEVENT
DTSTART;TZID=Europe/Madrid:20251220T170000
DTEND;TZID=Europe/Madrid:20251220T190000
DTSTAMP:20260426T021054
CREATED:20251204T084035Z
LAST-MODIFIED:20251204T084035Z
UID:10001018-1766250000-1766257200@www.argandadelrey.es
SUMMARY:MEET AND GREET CON PERSONAJES NAVIDEÑOS
DESCRIPTION:
URL:https://www.argandadelrey.es/evento/meet-and-greet-con-personajes-navidenos/
LOCATION:Parque de los Patos\, Carretera de Loeches\, Arganda del Rey\, Madrid\, 28500\, España
ATTACH;FMTTYPE=image/jpeg:https://www.argandadelrey.es/wp-content/uploads/2025/06/parque-gonzalez-bueno.jpeg
END:VEVENT
BEGIN:VEVENT
DTSTART;TZID=Europe/Madrid:20251220T170000
DTEND;TZID=Europe/Madrid:20251220T190000
DTSTAMP:20260426T021054
CREATED:20251204T083802Z
LAST-MODIFIED:20251204T083802Z
UID:10001017-1766250000-1766257200@www.argandadelrey.es
SUMMARY:PINTACARAS Y TALLERES NAVIDEÑOS
DESCRIPTION:
URL:https://www.argandadelrey.es/evento/pintacaras-y-talleres-navidenos-7/
LOCATION:Parque de los Patos\, Carretera de Loeches\, Arganda del Rey\, Madrid\, 28500\, España
ATTACH;FMTTYPE=image/jpeg:https://www.argandadelrey.es/wp-content/uploads/2025/10/Parque-Gonzalez-Bueno-scaled.jpg
END:VEVENT
BEGIN:VEVENT
DTSTART;TZID=Europe/Madrid:20251213T200000
DTEND;TZID=Europe/Madrid:20251213T213000
DTSTAMP:20260426T021054
CREATED:20251202T113042Z
LAST-MODIFIED:20251202T113042Z
UID:10001006-1765656000-1765661400@www.argandadelrey.es
SUMMARY:ZAMBOMBA FLAMENCA
DESCRIPTION:Organiza la Casa Regional de Andalucía
URL:https://www.argandadelrey.es/evento/zambomba-flamenca-2/
LOCATION:Parque de los Patos\, Carretera de Loeches\, Arganda del Rey\, Madrid\, 28500\, España
ATTACH;FMTTYPE=image/png:https://www.argandadelrey.es/wp-content/uploads/2024/10/gonzalez-bueno.png
END:VEVENT
BEGIN:VEVENT
DTSTART;TZID=Europe/Madrid:20251213T170000
DTEND;TZID=Europe/Madrid:20251213T190000
DTSTAMP:20260426T021054
CREATED:20251202T111709Z
LAST-MODIFIED:20251202T111931Z
UID:10001003-1765645200-1765652400@www.argandadelrey.es
SUMMARY:MEET AND GREET CON PERSONAJES
DESCRIPTION:
URL:https://www.argandadelrey.es/evento/meet-and-greet-con-personajes/
LOCATION:Parque de los Patos\, Carretera de Loeches\, Arganda del Rey\, Madrid\, 28500\, España
ATTACH;FMTTYPE=image/jpeg:https://www.argandadelrey.es/wp-content/uploads/2025/10/Parque-Gonzalez-Bueno-scaled.jpg
END:VEVENT
BEGIN:VEVENT
DTSTART;TZID=Europe/Madrid:20251213T170000
DTEND;TZID=Europe/Madrid:20251213T190000
DTSTAMP:20260426T021054
CREATED:20251202T110742Z
LAST-MODIFIED:20251202T110742Z
UID:10001000-1765645200-1765652400@www.argandadelrey.es
SUMMARY:PINTACARAS Y TALLERES NAVIDEÑOS
DESCRIPTION:
URL:https://www.argandadelrey.es/evento/pintacaras-y-talleres-navidenos-6/2025-12-13/
LOCATION:Parque de los Patos\, Carretera de Loeches\, Arganda del Rey\, Madrid\, 28500\, España
ATTACH;FMTTYPE=image/jpeg:https://www.argandadelrey.es/wp-content/uploads/2025/10/Parque-Gonzalez-Bueno-scaled.jpg
END:VEVENT
BEGIN:VEVENT
DTSTART;TZID=Europe/Madrid:20251212T170000
DTEND;TZID=Europe/Madrid:20251212T190000
DTSTAMP:20260426T021055
CREATED:20251202T110742Z
LAST-MODIFIED:20251202T110742Z
UID:10000999-1765558800-1765566000@www.argandadelrey.es
SUMMARY:PINTACARAS Y TALLERES NAVIDEÑOS
DESCRIPTION:
URL:https://www.argandadelrey.es/evento/pintacaras-y-talleres-navidenos-6/2025-12-12/
LOCATION:Parque de los Patos\, Carretera de Loeches\, Arganda del Rey\, Madrid\, 28500\, España
ATTACH;FMTTYPE=image/jpeg:https://www.argandadelrey.es/wp-content/uploads/2025/10/Parque-Gonzalez-Bueno-scaled.jpg
END:VEVENT
BEGIN:VEVENT
DTSTART;TZID=Europe/Madrid:20251206T170000
DTEND;TZID=Europe/Madrid:20251206T190000
DTSTAMP:20260426T021055
CREATED:20251202T104241Z
LAST-MODIFIED:20251202T104339Z
UID:10000995-1765040400-1765047600@www.argandadelrey.es
SUMMARY:PINTACARAS Y TALLERES NAVIDEÑOS
DESCRIPTION:
URL:https://www.argandadelrey.es/evento/pintacaras-y-talleres-navidenos-5/2025-12-06/
LOCATION:Parque de los Patos\, Carretera de Loeches\, Arganda del Rey\, Madrid\, 28500\, España
ATTACH;FMTTYPE=image/jpeg:https://www.argandadelrey.es/wp-content/uploads/2025/10/Parque-Gonzalez-Bueno-scaled.jpg
END:VEVENT
BEGIN:VEVENT
DTSTART;TZID=Europe/Madrid:20251205T170000
DTEND;TZID=Europe/Madrid:20251205T190000
DTSTAMP:20260426T021055
CREATED:20251202T104241Z
LAST-MODIFIED:20251202T104339Z
UID:10000994-1764954000-1764961200@www.argandadelrey.es
SUMMARY:PINTACARAS Y TALLERES NAVIDEÑOS
DESCRIPTION:
URL:https://www.argandadelrey.es/evento/pintacaras-y-talleres-navidenos-5/2025-12-05/
LOCATION:Parque de los Patos\, Carretera de Loeches\, Arganda del Rey\, Madrid\, 28500\, España
ATTACH;FMTTYPE=image/jpeg:https://www.argandadelrey.es/wp-content/uploads/2025/10/Parque-Gonzalez-Bueno-scaled.jpg
END:VEVENT
BEGIN:VEVENT
DTSTART;TZID=Europe/Madrid:20251031T190000
DTEND;TZID=Europe/Madrid:20251031T210000
DTSTAMP:20260426T021055
CREATED:20251027T132555Z
LAST-MODIFIED:20251027T132555Z
UID:10000947-1761937200-1761944400@www.argandadelrey.es
SUMMARY:ARGANDA DE MIEDO: PASAJE DEL TERROR POR HALLOWEEN
DESCRIPTION:
URL:https://www.argandadelrey.es/evento/arganda-de-miedo-pasaje-del-terror-por-halloween/
LOCATION:Parque de los Patos\, Carretera de Loeches\, Arganda del Rey\, Madrid\, 28500\, España
ATTACH;FMTTYPE=image/jpeg:https://www.argandadelrey.es/wp-content/uploads/2025/10/halloween.jpg
END:VEVENT
BEGIN:VEVENT
DTSTART;TZID=Europe/Madrid:20250518T110000
DTEND;TZID=Europe/Madrid:20250518T120000
DTSTAMP:20260426T021055
CREATED:20250513T095214Z
LAST-MODIFIED:20250513T095214Z
UID:10000820-1747566000-1747569600@www.argandadelrey.es
SUMMARY:VI FIESTA POR LA ESCUELA PÚBLICA
DESCRIPTION:
URL:https://www.argandadelrey.es/evento/vi-fiesta-por-la-escuela-publica/
LOCATION:Parque de los Patos\, Carretera de Loeches\, Arganda del Rey\, Madrid\, 28500\, España
ATTACH;FMTTYPE=image/jpeg:https://www.argandadelrey.es/wp-content/uploads/2019/05/Escuela-Pública.jpg
END:VEVENT
BEGIN:VEVENT
DTSTART;TZID=Europe/Madrid:20250104T170000
DTEND;TZID=Europe/Madrid:20250104T200000
DTSTAMP:20260426T021055
CREATED:20241211T100336Z
LAST-MODIFIED:20241211T100336Z
UID:10000610-1736010000-1736020800@www.argandadelrey.es
SUMMARY:Pintacaras y talleres navideños
DESCRIPTION:navideños
URL:https://www.argandadelrey.es/evento/pintacaras-y-talleres-navidenos-4/
LOCATION:Parque de los Patos\, Carretera de Loeches\, Arganda del Rey\, Madrid\, 28500\, España
ATTACH;FMTTYPE=image/png:https://www.argandadelrey.es/wp-content/uploads/2024/11/pintacara.png
END:VEVENT
BEGIN:VEVENT
DTSTART;TZID=Europe/Madrid:20250103T170000
DTEND;TZID=Europe/Madrid:20250103T200000
DTSTAMP:20260426T021055
CREATED:20241211T090715Z
LAST-MODIFIED:20241211T090715Z
UID:10000603-1735923600-1735934400@www.argandadelrey.es
SUMMARY:Pintacaras y talleres navideño
DESCRIPTION:
URL:https://www.argandadelrey.es/evento/pintacaras-y-talleres-navideno/
LOCATION:Parque de los Patos\, Carretera de Loeches\, Arganda del Rey\, Madrid\, 28500\, España
ATTACH;FMTTYPE=image/png:https://www.argandadelrey.es/wp-content/uploads/2024/11/pintacara.png
END:VEVENT
BEGIN:VEVENT
DTSTART;TZID=Europe/Madrid:20241228T170000
DTEND;TZID=Europe/Madrid:20241228T200000
DTSTAMP:20260426T021055
CREATED:20241211T080242Z
LAST-MODIFIED:20241211T080242Z
UID:10000586-1735405200-1735416000@www.argandadelrey.es
SUMMARY:Pintacaras y talleres navideños
DESCRIPTION:
URL:https://www.argandadelrey.es/evento/pintacaras-y-talleres-navidenos-3/
LOCATION:Parque de los Patos\, Carretera de Loeches\, Arganda del Rey\, Madrid\, 28500\, España
ATTACH;FMTTYPE=image/png:https://www.argandadelrey.es/wp-content/uploads/2024/11/pintacara.png
END:VEVENT
BEGIN:VEVENT
DTSTART;TZID=Europe/Madrid:20241227T170000
DTEND;TZID=Europe/Madrid:20241227T200000
DTSTAMP:20260426T021055
CREATED:20241204T121552Z
LAST-MODIFIED:20241210T113406Z
UID:10000578-1735318800-1735329600@www.argandadelrey.es
SUMMARY:Pintacaras y talleres navideños
DESCRIPTION:
URL:https://www.argandadelrey.es/evento/pitnacaras-y-talleres-navidenos/
LOCATION:Parque de los Patos\, Carretera de Loeches\, Arganda del Rey\, Madrid\, 28500\, España
ATTACH;FMTTYPE=image/png:https://www.argandadelrey.es/wp-content/uploads/2024/11/pintacara.png
END:VEVENT
BEGIN:VEVENT
DTSTART;TZID=Europe/Madrid:20241221T170000
DTEND;TZID=Europe/Madrid:20241221T190000
DTSTAMP:20260426T021055
CREATED:20241202T122421Z
LAST-MODIFIED:20241202T122421Z
UID:10000557-1734800400-1734807600@www.argandadelrey.es
SUMMARY:Pintacaras y talleres navideños
DESCRIPTION:Parque González Bueno y Plaza de la Alegría
URL:https://www.argandadelrey.es/evento/pintacaras-y-talleres-navidenos-2/
LOCATION:Parque de los Patos\, Carretera de Loeches\, Arganda del Rey\, Madrid\, 28500\, España
ATTACH;FMTTYPE=image/png:https://www.argandadelrey.es/wp-content/uploads/2024/11/pintacara.png
END:VEVENT
BEGIN:VEVENT
DTSTART;TZID=Europe/Madrid:20241220T170000
DTEND;TZID=Europe/Madrid:20241220T200000
DTSTAMP:20260426T021055
CREATED:20241128T123748Z
LAST-MODIFIED:20241202T122229Z
UID:10000544-1734714000-1734724800@www.argandadelrey.es
SUMMARY:Pintacaras y talleres navideños
DESCRIPTION:Parque González Bueno y Plaza de la Alegría
URL:https://www.argandadelrey.es/evento/pintacaras-y-talleres-navidenos/2024-12-20/
LOCATION:Parque de los Patos\, Carretera de Loeches\, Arganda del Rey\, Madrid\, 28500\, España
ATTACH;FMTTYPE=image/png:https://www.argandadelrey.es/wp-content/uploads/2024/11/pintacara.png
END:VEVENT
BEGIN:VEVENT
DTSTART;TZID=Europe/Madrid:20241214T200000
DTEND;TZID=Europe/Madrid:20241214T213000
DTSTAMP:20260426T021055
CREATED:20241128T132413Z
LAST-MODIFIED:20241209T131225Z
UID:10000524-1734206400-1734211800@www.argandadelrey.es
SUMMARY:Zambomba flamenca
DESCRIPTION:
URL:https://www.argandadelrey.es/evento/zambomba-flamenca/
LOCATION:Parque de los Patos\, Carretera de Loeches\, Arganda del Rey\, Madrid\, 28500\, España
ATTACH;FMTTYPE=image/png:https://www.argandadelrey.es/wp-content/uploads/2024/11/Zamboba.png
END:VEVENT
BEGIN:VEVENT
DTSTART;TZID=Europe/Madrid:20241214T170000
DTEND;TZID=Europe/Madrid:20241214T200000
DTSTAMP:20260426T021055
CREATED:20241128T123748Z
LAST-MODIFIED:20241202T122229Z
UID:10000520-1734195600-1734206400@www.argandadelrey.es
SUMMARY:Pintacaras y talleres navideños
DESCRIPTION:Parque González Bueno y Plaza de la Alegría
URL:https://www.argandadelrey.es/evento/pintacaras-y-talleres-navidenos/2024-12-14/
LOCATION:Parque de los Patos\, Carretera de Loeches\, Arganda del Rey\, Madrid\, 28500\, España
ATTACH;FMTTYPE=image/png:https://www.argandadelrey.es/wp-content/uploads/2024/11/pintacara.png
END:VEVENT
BEGIN:VEVENT
DTSTART;TZID=Europe/Madrid:20241213T170000
DTEND;TZID=Europe/Madrid:20241213T200000
DTSTAMP:20260426T021055
CREATED:20241128T123748Z
LAST-MODIFIED:20241202T122229Z
UID:10000508-1734109200-1734120000@www.argandadelrey.es
SUMMARY:Pintacaras y talleres navideños
DESCRIPTION:Parque González Bueno y Plaza de la Alegría
URL:https://www.argandadelrey.es/evento/pintacaras-y-talleres-navidenos/2024-12-13/
LOCATION:Parque de los Patos\, Carretera de Loeches\, Arganda del Rey\, Madrid\, 28500\, España
ATTACH;FMTTYPE=image/png:https://www.argandadelrey.es/wp-content/uploads/2024/11/pintacara.png
END:VEVENT
BEGIN:VEVENT
DTSTART;TZID=Europe/Madrid:20241130T200000
DTEND;TZID=Europe/Madrid:20241130T210000
DTSTAMP:20260426T021055
CREATED:20241127T110228Z
LAST-MODIFIED:20241127T110228Z
UID:10000491-1732996800-1733000400@www.argandadelrey.es
SUMMARY:Villancicos en el Bosque Navideño
DESCRIPTION:
URL:https://www.argandadelrey.es/evento/villancicos-en-el-bosque-navideno/
LOCATION:Parque de los Patos\, Carretera de Loeches\, Arganda del Rey\, Madrid\, 28500\, España
ATTACH;FMTTYPE=image/jpeg:https://www.argandadelrey.es/wp-content/uploads/2024/06/IMG_0111-scaled.jpg
END:VEVENT
BEGIN:VEVENT
DTSTART;TZID=Europe/Madrid:20241130T170000
DTEND;TZID=Europe/Madrid:20250106T210000
DTSTAMP:20260426T021055
CREATED:20241128T084758Z
LAST-MODIFIED:20241128T092512Z
UID:10000499-1732986000-1736197200@www.argandadelrey.es
SUMMARY:Bosque Navideño
DESCRIPTION:Horario: \n\nDe 17:00 a 23:00 horas fines de semana\nDe 17:00 a 21 horas resto de días
URL:https://www.argandadelrey.es/evento/bosque-navideno/
LOCATION:Parque de los Patos\, Carretera de Loeches\, Arganda del Rey\, Madrid\, 28500\, España
ATTACH;FMTTYPE=image/png:https://www.argandadelrey.es/wp-content/uploads/2024/11/Screenshot-2024-11-28-at-10-19-38-Ayuntamiento-Arganda-del-Rey-@ayto.arganda-•-Fotos-y-videos-de-Instagram.png
END:VEVENT
BEGIN:VEVENT
DTSTART;TZID=Europe/Madrid:20240914T180000
DTEND;TZID=Europe/Madrid:20240914T190000
DTSTAMP:20260426T021055
CREATED:20240906T081503Z
LAST-MODIFIED:20240906T093421Z
UID:10000318-1726336800-1726340400@www.argandadelrey.es
SUMMARY:Pequefest: Escaperoom Misión Espacial
DESCRIPTION:
URL:https://www.argandadelrey.es/evento/pequefest-escaperoom-mision-espacial/
LOCATION:Parque de los Patos\, Carretera de Loeches\, Arganda del Rey\, Madrid\, 28500\, España
ATTACH;FMTTYPE=image/jpeg:https://www.argandadelrey.es/wp-content/uploads/2024/09/IMG_0091-scaled.jpg
END:VEVENT
BEGIN:VEVENT
DTSTART;TZID=Europe/Madrid:20240630T190000
DTEND;TZID=Europe/Madrid:20240630T200000
DTSTAMP:20260426T021055
CREATED:20240626T112814Z
LAST-MODIFIED:20240626T113533Z
UID:10000206-1719774000-1719777600@www.argandadelrey.es
SUMMARY:Semana del Orgullo: Fiesta del Agua
DESCRIPTION:
URL:https://www.argandadelrey.es/evento/semana-del-orgullo-fiesta-del-agua/
LOCATION:Parque de los Patos\, Carretera de Loeches\, Arganda del Rey\, Madrid\, 28500\, España
ATTACH;FMTTYPE=image/jpeg:https://www.argandadelrey.es/wp-content/uploads/2024/06/IMG_0111-scaled.jpg
END:VEVENT
BEGIN:VEVENT
DTSTART;TZID=Europe/Madrid:20240519T110000
DTEND;TZID=Europe/Madrid:20240519T140000
DTSTAMP:20260426T021055
CREATED:20240516T111230Z
LAST-MODIFIED:20240516T111935Z
UID:10000097-1716116400-1716127200@www.argandadelrey.es
SUMMARY:V Fiesta por la Educación Pública
DESCRIPTION:
URL:https://www.argandadelrey.es/evento/v-fiesta-por-la-educacion/
LOCATION:Parque de los Patos\, Carretera de Loeches\, Arganda del Rey\, Madrid\, 28500\, España
ATTACH;FMTTYPE=image/jpeg:https://www.argandadelrey.es/wp-content/uploads/2024/05/442406437_837929161701503_4213315905953006832_n.jpg
END:VEVENT
END:VCALENDAR