



BEGIN:VCALENDAR
VERSION:2.0
PRODID:-//Ayuntamiento de Arganda - ECPv6.3.4//NONSGML v1.0//EN
CALSCALE:GREGORIAN
METHOD:PUBLISH
X-WR-CALNAME:Ayuntamiento de Arganda
X-ORIGINAL-URL:https://www.argandadelrey.es
X-WR-CALDESC:Eventos para Ayuntamiento de Arganda
REFRESH-INTERVAL;VALUE=DURATION:PT1H
X-Robots-Tag:noindex
X-PUBLISHED-TTL:PT1H
BEGIN:VTIMEZONE
TZID:Europe/Madrid
BEGIN:DAYLIGHT
TZOFFSETFROM:+0100
TZOFFSETTO:+0200
TZNAME:CEST
DTSTART:20260329T010000
END:DAYLIGHT
BEGIN:STANDARD
TZOFFSETFROM:+0200
TZOFFSETTO:+0100
TZNAME:CET
DTSTART:20261025T010000
END:STANDARD
END:VTIMEZONE
BEGIN:VEVENT
DTSTART;TZID=Europe/Madrid:20260425T110000
DTEND;TZID=Europe/Madrid:20260425T210000
DTSTAMP:20260422T132624
CREATED:20260422T073338Z
LAST-MODIFIED:20260422T073338Z
UID:10001206-1777114800-1777150800@www.argandadelrey.es
SUMMARY:FERIA DEL VINO DE ARGANDA
DESCRIPTION:
URL:https://www.argandadelrey.es/evento/feria-del-vino-de-arganda/2026-04-25/
LOCATION:Plaza de la Constitución\, Arganda del Rey\, Madrid\, 28500\, España
ATTACH;FMTTYPE=image/png:https://www.argandadelrey.es/wp-content/uploads/2026/04/Foto-La-Coleccion-56.png
END:VEVENT
BEGIN:VEVENT
DTSTART;TZID=Europe/Madrid:20260426T110000
DTEND;TZID=Europe/Madrid:20260426T170000
DTSTAMP:20260422T132624
CREATED:20260422T073338Z
LAST-MODIFIED:20260422T073338Z
UID:10001207-1777201200-1777222800@www.argandadelrey.es
SUMMARY:FERIA DEL VINO DE ARGANDA
DESCRIPTION:
URL:https://www.argandadelrey.es/evento/feria-del-vino-de-arganda/2026-04-26/
LOCATION:Plaza de la Constitución\, Arganda del Rey\, Madrid\, 28500\, España
ATTACH;FMTTYPE=image/png:https://www.argandadelrey.es/wp-content/uploads/2026/04/Foto-La-Coleccion-56.png
END:VEVENT
END:VCALENDAR